BEGIN:VCALENDAR
VERSION:2.0
PRODID:-//www.kirche-schatthausen.de//NONSGML kigkonsult.se iCalcreator 2.41.92//
CALSCALE:GREGORIAN
METHOD:PUBLISH
UID:36643761-3965-4437-b334-383332393233
X-WR-TIMEZONE:Europe/Berlin
X-LIC-LOCATION:Europe/Berlin
BEGIN:VTIMEZONE
TZID:Europe/Berlin
BEGIN:DAYLIGHT
TZOFFSETFROM:+0100
TZOFFSETTO:+0200
TZNAME:CEST
DTSTART:19700329T020000
RRULE:FREQ=YEARLY;BYDAY=-1SU;BYMONTH=3
END:DAYLIGHT
BEGIN:STANDARD
TZOFFSETFROM:+0200
TZOFFSETTO:+0100
TZNAME:CET
DTSTART:19701025T030000
RRULE:FREQ=YEARLY;BYDAY=-1SU;BYMONTH=10
END:STANDARD
END:VTIMEZONE
BEGIN:VEVENT
UID:38363762-3862-4965-b362-306135666131
DTSTAMP:20260421T123152Z
DESCRIPTION:mit Pfarrerin Angelika Haffner und dem AnChor\n \n Veranstaltun
 gsort:\n Evangelische Kirche Schatthausen\n Kirchstraße 15\n 69168 Wiesloc
 h-Schatthausen\n \n Veranstalter:\n Evangelische Pfarrgemeinde Schatthause
 n\n Kirchstraße 15\n 69168 Wiesloch - Schatthausen\n Telefon: 06222 70644
 \n Telefax: 06222 70280\n http://www.kirche-schatthausen.de
DTSTART;TZID=Europe/Berlin:20260426T100000
DTEND;TZID=Europe/Berlin:20260426T110000
LOCATION:Evangelische Kirche Schatthausen\n - Kirchstraße 15\n - 69168 Wies
 loch-Schatthausen
SUMMARY:Festgottesdienst anlässlich der Konfirmation
X-ALT-DESC;FMTTYPE=text/html:mit Pfarrerin Angelika Haffner und dem AnChor<
 br /><br />Veranstaltungsort: <br />Evangelische Kirche Schatthausen<br />
 Kirchstraße 15<br />69168 Wiesloch-Schatthausen<br /><br />Veranstalter: <
 br />Evangelische Pfarrgemeinde Schatthausen<br />Kirchstraße 15<br />6916
 8 Wiesloch - Schatthausen<br />Telefon: 06222 70644<br />Telefax: 06222 70
 280<br />http://www.kirche-schatthausen.de
END:VEVENT
END:VCALENDAR
