BEGIN:VCALENDAR
VERSION:2.0
PRODID:-//www.kirche-schatthausen.de//NONSGML kigkonsult.se iCalcreator 2.41.92//
CALSCALE:GREGORIAN
METHOD:PUBLISH
UID:66336663-3234-4637-b164-656462326362
X-WR-TIMEZONE:Europe/Berlin
X-LIC-LOCATION:Europe/Berlin
BEGIN:VTIMEZONE
TZID:Europe/Berlin
BEGIN:DAYLIGHT
TZOFFSETFROM:+0100
TZOFFSETTO:+0200
TZNAME:CEST
DTSTART:19700329T020000
RRULE:FREQ=YEARLY;BYDAY=-1SU;BYMONTH=3
END:DAYLIGHT
BEGIN:STANDARD
TZOFFSETFROM:+0200
TZOFFSETTO:+0100
TZNAME:CET
DTSTART:19701025T030000
RRULE:FREQ=YEARLY;BYDAY=-1SU;BYMONTH=10
END:STANDARD
END:VTIMEZONE
BEGIN:VEVENT
UID:62313464-3237-4537-b136-626139656238
DTSTAMP:20260421T153122Z
DESCRIPTION:mit Pfarrerin A. Haffner und musikalischer Gestaltung durch den
  AnChor\n \n Veranstaltungsort:\n Evangelische Kirche Schatthausen\n Kirch
 str.15\n 69168 Wiesloch-Schatthausen\n \n Veranstalter:\n Schatthausen\, E
 vangelische Pfarrgemeinde\n Kirchstraße 15\n 69168 Wiesloch-Schatthausen\n
  Telefon: 06222-70644\n Telefax: 06222-70280\n http://www.kirche-schatthau
 sen.de
DTSTART;TZID=Europe/Berlin:20260621T100000
DTEND;TZID=Europe/Berlin:20260621T110000
LOCATION:Evangelische Kirche Schatthausen\n - Kirchstr.15\n - 69168 Wiesloc
 h-Schatthausen
SUMMARY:Festgottesdienst anlässlich der Jubelkonfirmation
X-ALT-DESC;FMTTYPE=text/html:mit Pfarrerin A. Haffner und musikalischer Ges
 taltung durch den AnChor<br /><br />Veranstaltungsort: <br />Evangelische 
 Kirche Schatthausen<br />Kirchstr.15<br />69168 Wiesloch-Schatthausen<br /
 ><br />Veranstalter: <br />Schatthausen\, Evangelische Pfarrgemeinde<br />
 Kirchstraße 15 <br />69168 Wiesloch-Schatthausen<br />Telefon: 06222-70644
  <br />Telefax: 06222-70280<br />http://www.kirche-schatthausen.de
END:VEVENT
END:VCALENDAR
