BEGIN:VCALENDAR
VERSION:2.0
PRODID:-//www.kirche-schatthausen.de//NONSGML kigkonsult.se iCalcreator 2.41.92//
CALSCALE:GREGORIAN
METHOD:PUBLISH
UID:38386338-6535-4966-a433-643762623937
X-WR-TIMEZONE:Europe/Berlin
X-LIC-LOCATION:Europe/Berlin
BEGIN:VTIMEZONE
TZID:Europe/Berlin
BEGIN:DAYLIGHT
TZOFFSETFROM:+0100
TZOFFSETTO:+0200
TZNAME:CEST
DTSTART:19700329T020000
RRULE:FREQ=YEARLY;BYDAY=-1SU;BYMONTH=3
END:DAYLIGHT
BEGIN:STANDARD
TZOFFSETFROM:+0200
TZOFFSETTO:+0100
TZNAME:CET
DTSTART:19701025T030000
RRULE:FREQ=YEARLY;BYDAY=-1SU;BYMONTH=10
END:STANDARD
END:VTIMEZONE
BEGIN:VEVENT
UID:33653962-3432-4936-a461-306262383166
DTSTAMP:20260421T153139Z
DESCRIPTION:Veranstaltungsort:\n Evangelische Stadtkirche Wiesloch\n Pfarrs
 traße 3\n 69168 Wiesloch\n \n Veranstalter:\n Petrusgemeinde Wiesloch
DTSTART;TZID=Europe/Berlin:20260517T103000
DTEND;TZID=Europe/Berlin:20260517T113000
LOCATION:Evangelische Stadtkirche Wiesloch\n - Pfarrstraße 3\n - 69168 Wies
 loch
SUMMARY:Gottesdienst in der Stadtkirche
X-ALT-DESC;FMTTYPE=text/html:Veranstaltungsort: <br />Evangelische Stadtkir
 che Wiesloch<br />Pfarrstraße 3<br />69168 Wiesloch<br /><br />Veranstalte
 r: <br />Petrusgemeinde Wiesloch
END:VEVENT
END:VCALENDAR
