BEGIN:VCALENDAR
VERSION:2.0
PRODID:-//www.kirche-schatthausen.de//NONSGML kigkonsult.se iCalcreator 2.41.92//
CALSCALE:GREGORIAN
METHOD:PUBLISH
UID:65356463-3831-4035-a262-663634323238
X-WR-TIMEZONE:Europe/Berlin
X-LIC-LOCATION:Europe/Berlin
BEGIN:VTIMEZONE
TZID:Europe/Berlin
BEGIN:DAYLIGHT
TZOFFSETFROM:+0100
TZOFFSETTO:+0200
TZNAME:CEST
DTSTART:19700329T020000
RRULE:FREQ=YEARLY;BYDAY=-1SU;BYMONTH=3
END:DAYLIGHT
BEGIN:STANDARD
TZOFFSETFROM:+0200
TZOFFSETTO:+0100
TZNAME:CET
DTSTART:19701025T030000
RRULE:FREQ=YEARLY;BYDAY=-1SU;BYMONTH=10
END:STANDARD
END:VTIMEZONE
BEGIN:VEVENT
UID:37303932-6136-4535-b034-646335376664
DTSTAMP:20260421T153415Z
DESCRIPTION:Bibelgesprächskreis mit Prädikantin Anne Zimmermann\n \n Verans
 taltungsort:\n Gemeindehaus\n Kirchstraße 13\n 69168 Wiesloch-Schatthausen
 \n \n Veranstalter:\n Evangelische Pfarrgemeinde Schatthausen\n Kirchstraß
 e 15\n 69168 Wiesloch - Schatthausen\n Telefon: 06222 70644\n Telefax: 062
 22 70280\n http://www.kirche-schatthausen.de
DTSTART;TZID=Europe/Berlin:20260617T190000
DTEND;TZID=Europe/Berlin:20260617T200000
LOCATION:Gemeindehaus\n - Kirchstraße 13\n - 69168 Wiesloch-Schatthausen
SUMMARY:Bibelstunde
X-ALT-DESC;FMTTYPE=text/html:Bibelgesprächskreis mit Prädikantin Anne Zimme
 rmann<br /><br />Veranstaltungsort: <br />Gemeindehaus<br />Kirchstraße 13
 <br />69168 Wiesloch-Schatthausen<br /><br />Veranstalter: <br />Evangelis
 che Pfarrgemeinde Schatthausen<br />Kirchstraße 15<br />69168 Wiesloch - S
 chatthausen<br />Telefon: 06222 70644<br />Telefax: 06222 70280<br />http:
 //www.kirche-schatthausen.de
END:VEVENT
END:VCALENDAR
