BEGIN:VCALENDAR
VERSION:2.0
PRODID:-//www.kirche-schatthausen.de//NONSGML kigkonsult.se iCalcreator 2.41.92//
CALSCALE:GREGORIAN
METHOD:PUBLISH
UID:36376566-6531-4136-a235-613236363431
X-WR-TIMEZONE:Europe/Berlin
X-LIC-LOCATION:Europe/Berlin
BEGIN:VTIMEZONE
TZID:Europe/Berlin
BEGIN:DAYLIGHT
TZOFFSETFROM:+0100
TZOFFSETTO:+0200
TZNAME:CEST
DTSTART:19700329T020000
RRULE:FREQ=YEARLY;BYDAY=-1SU;BYMONTH=3
END:DAYLIGHT
BEGIN:STANDARD
TZOFFSETFROM:+0200
TZOFFSETTO:+0100
TZNAME:CET
DTSTART:19701025T030000
RRULE:FREQ=YEARLY;BYDAY=-1SU;BYMONTH=10
END:STANDARD
END:VTIMEZONE
BEGIN:VEVENT
UID:34633836-6235-4266-a630-373431353839
DTSTAMP:20260421T135616Z
DESCRIPTION:Bibelgesprächskreis mit Prädikantin Anne Zimmermann\n \n Thema:
  'Gottes reiche Segnungen - mehr als ein Geschenk!' Wir entdecken dazu ein
 e Abschnitt aus Epheser 1.\n \n Veranstaltungsort:\n Gemeindehaus\n Kirchs
 traße 13\n 69168 Wiesloch-Schatthausen\n \n Veranstalter:\n Evangelische P
 farrgemeinde Schatthausen\n Kirchstraße 15\n 69168 Wiesloch - Schatthausen
 \n Telefon: 06222 70644\n Telefax: 06222 70280\n http://www.kirche-schatth
 ausen.de
DTSTART;TZID=Europe/Berlin:20260422T190000
DTEND;TZID=Europe/Berlin:20260422T200000
LOCATION:Gemeindehaus\n - Kirchstraße 13\n - 69168 Wiesloch-Schatthausen
SUMMARY:Bibelstunde
X-ALT-DESC;FMTTYPE=text/html:Bibelgesprächskreis mit Prädikantin Anne Zimme
 rmann<br /><br />Thema: 'Gottes reiche Segnungen - mehr als ein Geschenk!'
 \n Wir entdecken dazu eine Abschnitt aus Epheser 1.<br /><br />Veranstaltu
 ngsort: <br />Gemeindehaus<br />Kirchstraße 13<br />69168 Wiesloch-Schatth
 ausen<br /><br />Veranstalter: <br />Evangelische Pfarrgemeinde Schatthaus
 en<br />Kirchstraße 15<br />69168 Wiesloch - Schatthausen<br />Telefon: 06
 222 70644<br />Telefax: 06222 70280<br />http://www.kirche-schatthausen.de
END:VEVENT
END:VCALENDAR
